BEGIN:VCALENDAR
VERSION:2.0
PRODID:-//lasucom.edu.ng - ECPv6.15.18//NONSGML v1.0//EN
CALSCALE:GREGORIAN
METHOD:PUBLISH
X-WR-CALNAME:lasucom.edu.ng
X-ORIGINAL-URL:https://lasucom.edu.ng
X-WR-CALDESC:Events for lasucom.edu.ng
REFRESH-INTERVAL;VALUE=DURATION:PT1H
X-Robots-Tag:noindex
X-PUBLISHED-TTL:PT1H
BEGIN:VTIMEZONE
TZID:UTC
BEGIN:STANDARD
TZOFFSETFROM:+0000
TZOFFSETTO:+0000
TZNAME:UTC
DTSTART:20230101T000000
END:STANDARD
END:VTIMEZONE
BEGIN:VEVENT
DTSTART;TZID=UTC:20241014T080000
DTEND;TZID=UTC:20241014T170000
DTSTAMP:20260424T133451
CREATED:20241014T181925Z
LAST-MODIFIED:20241014T181925Z
UID:25027-1728892800-1728925200@lasucom.edu.ng
SUMMARY:PROF. ADEWUYA’S INITIATIVE “FINALLY” COMES TO LIFE; NEW HRM SYSTEM DIGITALISATION LAUNCHED TO STREAMLINE STAFF OPERATIONS
DESCRIPTION:…………….Provost allays growing fear of Downsizing……………….. \nTaking a bold leap towards improving administrative efficiency and streamlining its processes\, the Lagos State University College of Medicine (LASUCOM) officially launched its much-anticipated Human Resource Management System (HRMS) for non-teaching staff on Monday\, 14th October 2024. \nThis state-of-the-art system aims to enhance efficiency\, transparency\, and ease of access to key HR functions such as biodata management\, leave applications\, performance tracking and many others. \nThe HRMS initiative was spearheaded by the College’s Provost\, Prof. Abiodun Adewuya who has been a staunch advocate for digitalizing the institution’s administrative infrastructure. \nFor years\, the Provost had been “loudly” championing the need for a digital HR solution\, arguing that it would not only optimize daily operations but also improve the working conditions and satisfaction of non-teaching staff by making essential services more accessible. \nBefore the official presentation and demonstration of the HRMS\, the Provost expressed pride in the project’s realization\, noting how crucial it was to elevate the institution’s human resource management to meet global standards. \n“For too long\, we have relied on cumbersome manual processes. This HRMS will not only reduce administrative burdens but also ensure greater accuracy and fairness in managing staff affairs\,” Prof. Adewuya stated \nHe also allayed the reoccurring fear of job termination and reassured staff that the system is designed to enhance efficiency\, not to reduce manpower. Addressing concerns that the new technology might lead to job cuts\, Prof. Adewuya emphasized that the HRMS is meant to make operations smoother and more transparent while allowing staff to focus on more strategic and value-adding activities. \n“Your Job is safe and this system is here to support you\, not replace you\,” he assured\, highlighting that the College’s commitment to its staff remains unwavering. \nThe system\, developed by the ICT Unit in collaboration with the Non-Academic Staff Establishment Division\, features user-friendly interfaces and allows staff members to access their personal information and records in real-time. \nIt also integrates advanced assessment tools to support decision-making by the administration\, furthering the College’s commitment to operational excellence. \nThe Head of ICT\, Mr. Richard Arogunjo conducted a live demonstration showcasing the platform’s capabilities. With an audience of non-teaching staff and key administrators\, he walked through the system’s user-friendly interface\, highlighting key features such as biodata uploads\, digital leave requests\, and profile management. \nThe demonstration emphasized how the HRMS will simplify daily administrative tasks and improve efficiency\, aiding the College’s efforts to modernize its operations. \nThis milestone underscores the Provost’s long-term vision for the College to be fully Digital in order to bolster innovation and institutional development. The LASUCOM HRMS is one of several initiatives aimed at improving the overall functioning of the College and ensuring that both academic and administrative staff have the necessary tools to excel.
URL:https://lasucom.edu.ng/event/prof-adewuyas-initiative-finally-comes-to-life-new-hrm-system-digitalisation-launched-to-streamline-staff-operations/
ATTACH;FMTTYPE=image/jpeg:https://lasucom.edu.ng/wp-content/uploads/2024/10/WhatsApp-Image-2024-10-14-at-5.59.15-PM.jpeg
END:VEVENT
BEGIN:VEVENT
DTSTART;TZID=UTC:20241023T080000
DTEND;TZID=UTC:20241023T170000
DTSTAMP:20260424T133451
CREATED:20241023T103300Z
LAST-MODIFIED:20241023T105759Z
UID:25065-1729670400-1729702800@lasucom.edu.ng
SUMMARY:LAG-UP Lagos State Youth Upskilling Programme.
DESCRIPTION:View Video\nRegister
URL:https://lasucom.edu.ng/event/lag-up-lagos-state-youth-upskilling-programme/
ATTACH;FMTTYPE=image/jpeg:https://lasucom.edu.ng/wp-content/uploads/2024/10/WhatsApp-Image-2024-10-23-at-9.51.07-AM.jpeg
END:VEVENT
BEGIN:VEVENT
DTSTART;TZID=UTC:20250109T080000
DTEND;TZID=UTC:20250109T170000
DTSTAMP:20260424T133451
CREATED:20250109T105451Z
LAST-MODIFIED:20250109T105451Z
UID:25788-1736409600-1736442000@lasucom.edu.ng
SUMMARY:INDUCTION CEREMONY FOR 5TH COHORT OF LASUCOM NURSES
DESCRIPTION:Join us in celebrating the 5th Set of Bachelor of Nursing Science (BNSc.) Graduates as they take their oath & step into the noble profession of Nursing.
URL:https://lasucom.edu.ng/event/induction-ceremony-for-5th-cohort-of-lasucom-nurses/
LOCATION:MRC Auditorium\, LASUCOM
ATTACH;FMTTYPE=image/jpeg:https://lasucom.edu.ng/wp-content/uploads/2025/01/NURSING-CEREMONY-2025.jpeg
END:VEVENT
BEGIN:VEVENT
DTSTART;TZID=UTC:20250203T080000
DTEND;TZID=UTC:20250210T170000
DTSTAMP:20260424T133451
CREATED:20250203T141322Z
LAST-MODIFIED:20250203T142319Z
UID:26034-1738569600-1739206800@lasucom.edu.ng
SUMMARY:LASUCOM 26TH FOUNDERS' DAY CELEBRATION
DESCRIPTION:The College is thrilled to announce that we will be Celebrating our 26th Founders’ Day Anniversary with a momentous special lecture on \n🗓️Date: Monday 10th February 2025! \nThis year’s Theme\, \n• “Founders’ Vision\, Future’s Triumph\,” • \nreflects our unwavering commitment to honoring the legacy of our pioneers while forging ahead toward even greater achievements. \nThe Anniversary Lecture 📜💬\, titled “Promoting and Sustaining Excellence in Medical Education: Advancing LASUCOM Founders’ Visions for the Future\,” shall be delivered by the esteemed \n👤Prof. Olumuyiwa O. Odusanya\, [Vice-Chancellor\, LASUSTECH] \n📍Venue: M.R.C Hall. \nJoin us on 🗓️Monday 10th February as we commemorate 26 years of excellence\, innovation\, and impact in Medical and Health Education! \nWe are LASUCOM\, The PRIDE of LASU!!!
URL:https://lasucom.edu.ng/event/lasucom-26th-founders-day-celebration/
LOCATION:MRC Auditorium\, LASUCOM
ATTACH;FMTTYPE=image/jpeg:https://lasucom.edu.ng/wp-content/uploads/2025/02/FOUNDERS-DAY-BARNER.jpeg
END:VEVENT
BEGIN:VEVENT
DTSTART;TZID=UTC:20250410T080000
DTEND;TZID=UTC:20250410T170000
DTSTAMP:20260424T133451
CREATED:20260423T101050Z
LAST-MODIFIED:20260423T104912Z
UID:26538-1744272000-1744304400@lasucom.edu.ng
SUMMARY:Happy Birthday! To a visionary scholar and the steadfast Captain of our academic voyage\, Prof. Ibiyemi Ibilola Olatunji-Bello (mni\, NPOM)
DESCRIPTION:Distinguished Professor Ibiyemi Ibilola Olatunji-Bello\, mni\, NPOM\nVice-Chancellor\, Lagos State University. \nOn this day\, the 23rd of April 2026\, the University Management\, Senate\, staff\, students\, and the entire University community proudly celebrate an exceptional leader\, distinguished scholar\, and visionary administrator: Distinguished Professor Ibiyemi Ibilola Olatunji-Bello\, mni\, NPOM\, the Vice-Chancellor of Lagos State University. \nYour tenure has been marked by purposeful leadership\, strategic foresight\, and an unwavering commitment to academic excellence\, institutional transformation\, and global relevance. Under your stewardship\, the University has continued to experience remarkable progress\, strengthened governance\, and renewed confidence in its mission and core values. \nYou have exemplified integrity\, resilience\, and excellence in service\, inspirin staff and students alike\, whilst advancing the frontiers of knowledge\, innovation\, and collaboration. \nAs you mark this significant milestone\, we celebrate not only your birthday\, but the enduring impact of your leadership and contributions to the growth and prestige of the University. \nWe wish you robust health\, renewed strength\, greater accomplishments\, and lasting fulfilment in the years ahead. \nMay the grace\, wisdom\, and favour of Almighty God continually guide and uphold you. \n🎂 Happy Birthday\, Distinguished Vice-Chancellor. \nWith the highest regards and profound appreciation. 🥂 \n—\nE-Signed\nCIPR\, LASU
URL:https://lasucom.edu.ng/event/birthday-felicitations/
ATTACH;FMTTYPE=image/jpeg:https://lasucom.edu.ng/wp-content/uploads/2025/04/WhatsApp-Image-2026-04-23-at-07.20.35.jpeg
END:VEVENT
BEGIN:VEVENT
DTSTART;TZID=UTC:20260410T080000
DTEND;TZID=UTC:20260411T170000
DTSTAMP:20260424T133451
CREATED:20260326T075121Z
LAST-MODIFIED:20260326T075121Z
UID:27437-1775808000-1775926800@lasucom.edu.ng
SUMMARY:Building High-value Health System: Leveraging on AI
DESCRIPTION:
URL:https://lasucom.edu.ng/event/building-high-value-health-system-leveraging-on-ai/
ATTACH;FMTTYPE=image/jpeg:https://lasucom.edu.ng/wp-content/uploads/2026/03/WhatsApp-Image-2026-03-24-at-20.47.35.jpeg
END:VEVENT
END:VCALENDAR